BEGIN:VCALENDAR
VERSION:2.0
PRODID:-//ChamberMaster//Event Calendar 2.0//EN
METHOD:PUBLISH
X-PUBLISHED-TTL:P3D
REFRESH-INTERVAL:P3D
CALSCALE:GREGORIAN
BEGIN:VEVENT
DTSTART;VALUE=DATE:20050818
DTEND;VALUE=DATE:20050819
TRANSP:TRANSPARENT
X-MICROSOFT-CDO-ALLDAYEVENT:TRUE
SUMMARY:15th Annual Women's Health Conference
DESCRIPTION:$30 fee. Registrations due by August 5\, 2005. Education sessions\, health screenings\, exhibits\, dinner\, entertainment\, featured speaker. \nCall 731.425.6448 for a registration brochure.
X-ALT-DESC;FMTTYPE=text/html:$30 fee. Registrations due by August 5\, 2005. Education sessions\, health screenings\, exhibits\, dinner\, entertainment\, featured speaker. \nCall 731.425.6448 for a registration brochure.
LOCATION:Carl Perkins Civic Center S. Highland Ave. Jackson\, TN
UID:e.2827.1164
SEQUENCE:3
DTSTAMP:20260421T185108Z
URL:https://member.jacksontn.com/events/details/15th-annual-women-s-health-conference-08-18-2005-1164
END:VEVENT

END:VCALENDAR
