BEGIN:VCALENDAR
VERSION:2.0
PRODID:-//ChamberMaster//Event Calendar 2.0//EN
METHOD:PUBLISH
X-PUBLISHED-TTL:P3D
REFRESH-INTERVAL:P3D
CALSCALE:GREGORIAN
BEGIN:VEVENT
DTSTART;VALUE=DATE:20010601
DTEND;VALUE=DATE:20010603
TRANSP:TRANSPARENT
X-MICROSOFT-CDO-ALLDAYEVENT:TRUE
SUMMARY:10th Annual Shannon Street Blues & Heritage Festival
DESCRIPTION:Cingular Wireless presents the 10th Annual Shannon Street Blues & Heritage Festival. \nSponsored by:  Budweiser\, Pepsi\, Thomas Media\, The Jackson Sun\, and dn English/"Downtown Wanderings"\n\nJune 1st:  7:30pm - 	Gates open - Farmers' Market (downtown Jackson) \n			Admission $5.00\n			Bar-be-que team set-ups (Memphis in May sanctioned tournament)\n	            8:00pm - 	"Magnificent Imposters Show" (locals lip syncing to favorite artists)\n	            9:00pm - 	Live Entertainment by  MAGI\n\nJune 2nd:  8:00am -	YMCA/Bluesfest 5K Run - Entry Fee - $15 if registered by May 18th\, $18 after May 19th.\n			                    Sponsored by Regional Cardiology Consultants\n	              10am/5pm-	Bar-be-que Judging - Winners announced - 5:30pm\n	               3:00pm -	Gates Open - Farmers' Market (downtown Jackson)\n             Admission $10.00	\n	                3:30pm -	Live Entertainment by:	\n                                        The Wildkatz  - 3:30\n						Kenny Brown - 4:30\n						The Crescent Street Gang  - 5:30\n						Sean Costello - 6:30\n						Rosie Ledet - 8:00\n						Kenny Neal - 9:15\n\nAll Proceeds help to  promote the economic development and revitalization of downtown Jackson.\n\n\nFor more information\, contact the Jackson Downtown Development Corporation\nat 731-427-7573
X-ALT-DESC;FMTTYPE=text/html:Cingular Wireless presents the 10th Annual Shannon Street Blues & Heritage Festival. \nSponsored by:  Budweiser\, Pepsi\, Thomas Media\, The Jackson Sun\, and dn English/"Downtown Wanderings"\n\nJune 1st:  7:30pm - 	Gates open - Farmers' Market (downtown Jackson) \n			Admission $5.00\n			Bar-be-que team set-ups (Memphis in May sanctioned tournament)\n	            8:00pm - 	"Magnificent Imposters Show" (locals lip syncing to favorite artists)\n	            9:00pm - 	Live Entertainment by  MAGI\n\nJune 2nd:  8:00am -	YMCA/Bluesfest 5K Run - Entry Fee - $15 if registered by May 18th\, $18 after May 19th.\n			                    Sponsored by Regional Cardiology Consultants\n	              10am/5pm-	Bar-be-que Judging - Winners announced - 5:30pm\n	               3:00pm -	Gates Open - Farmers' Market (downtown Jackson)\n             Admission $10.00	\n	                3:30pm -	Live Entertainment by:	\n                                        The Wildkatz  - 3:30\n						Kenny Brown - 4:30\n						The Crescent Street Gang  - 5:30\n						Sean Costello - 6:30\n						Rosie Ledet - 8:00\n						Kenny Neal - 9:15\n\nAll Proceeds help to  promote the economic development and revitalization of downtown Jackson.\n\n\nFor more information\, contact the Jackson Downtown Development Corporation\nat 731-427-7573
LOCATION:Farmers' Market (downtown Jackson)
UID:e.2827.842
SEQUENCE:3
DTSTAMP:20260424T215347Z
URL:https://member.jacksontn.com/events/details/10th-annual-shannon-street-blues-heritage-festival-06-01-2001-842
END:VEVENT

END:VCALENDAR
